BEGIN:VCALENDAR
VERSION:2.0
PRODID:-//hacksw/handcal//NONSGML v1.0//EN
CALSCALE:GREGORIAN
BEGIN:VEVENT
SUMMARY:BABELN
DTSTART:20260131T180000Z
UID:wpte_271
DTEND:20260131T200000Z
URL;VALUE=URI:https://kib-dresden.de/termine/babeln/
DTSTAMP:20260425T232157Z
END:VEVENT
END:VCALENDAR