BEGIN:VCALENDAR
VERSION:2.0
PRODID:-//hacksw/handcal//NONSGML v1.0//EN
CALSCALE:GREGORIAN
BEGIN:VEVENT
SUMMARY:Die Prinzenrolle
DTSTART:20260207T180000Z
UID:wpte_280
DTEND:20260207T200000Z
URL;VALUE=URI:https://kib-dresden.de/termine/die-prinzenrolle-2/
DTSTAMP:20260425T155634Z
END:VEVENT
END:VCALENDAR