BEGIN:VCALENDAR
VERSION:2.0
PRODID:-//hacksw/handcal//NONSGML v1.0//EN
CALSCALE:GREGORIAN
BEGIN:VEVENT
SUMMARY:DIE PRINZENROLLE
DTSTART:20260206T180000Z
UID:wpte_279
DTEND:20260206T200000Z
URL;VALUE=URI:https://kib-dresden.de/termine/die-prinzenrolle/
DTSTAMP:20260425T215315Z
END:VEVENT
END:VCALENDAR