BEGIN:VCALENDAR
VERSION:2.0
PRODID:-//hacksw/handcal//NONSGML v1.0//EN
CALSCALE:GREGORIAN
BEGIN:VEVENT
SUMMARY:DREI ERDBEEREN IM SCHNEE
DTSTART:20260207T100000Z
UID:wpte_290
DTEND:20260207T110000Z
URL;VALUE=URI:https://kib-dresden.de/termine/drei-erdbeeren-im-schnee/
DTSTAMP:20260425T185241Z
END:VEVENT
END:VCALENDAR