BEGIN:VCALENDAR
VERSION:2.0
PRODID:-//hacksw/handcal//NONSGML v1.0//EN
CALSCALE:GREGORIAN
BEGIN:VEVENT
SUMMARY:KONZERT AM KAMIN - Die Winterreise
DTSTART:20260207T160000Z
UID:wpte_283
DTEND:20260207T173000Z
URL;VALUE=URI:https://kib-dresden.de/termine/konzert-am-kamin-die-winterreise/
DTSTAMP:20260425T172054Z
END:VEVENT
END:VCALENDAR