BEGIN:VCALENDAR
VERSION:2.0
PRODID:-//hacksw/handcal//NONSGML v1.0//EN
CALSCALE:GREGORIAN
BEGIN:VEVENT
SUMMARY:NACHTKONZERT AM KAMIN
DTSTART:20260206T203000Z
UID:wpte_282
DTEND:20260206T213000Z
URL;VALUE=URI:https://kib-dresden.de/termine/nachtkonzert-am-kamin/
DTSTAMP:20260425T201947Z
END:VEVENT
END:VCALENDAR